BEGIN:VCALENDAR
VERSION:2.0
PRODID:-//eventon.com NONSGML v1.0//EN
CALSCALE:GREGORIAN
METHOD:PUBLISH
BEGIN:VEVENT
UID:69e7c0ee3cda1
DTSTAMP:20260421T182446Z
DTSTART:20241104T013000Z
DTEND:20241104T043000Z
LOCATION:Đại học Kinh tế TP. Hồ Chí Minh (UEH) - Cơ sở B 279 Đ. Nguyễn Tri Phương\,  Phường 5\,  Quận 10\,  Hồ Chí Minh\,  Việt Nam
SUMMARY:LỄ KỶ NIỆM 10 NĂM SURVIVAL SKILLS VIETNAM
DESCRIPTION:Nhân dịp kỷ niệm 10 năm thành lập\,  Survival Skills
  Vietnam trân trọng mời bạn tham dự buổi lễ đánh dấu hành
  trình lan tỏa kiến thức sơ cấp cứu và giá trị nhân văn c
 ủa việc cứu người. Đây sẽ là cơ hội để chúng ta cùng 
 nhau nhìn[..]\nhttps://elearning.survivalskills.vn/events/le-ky-niem-10-na
 m-survival-skills-vietnam/
URL:https://elearning.survivalskills.vn/events/le-ky-niem-10-nam-survival-skills-vietnam/
END:VEVENT
END:VCALENDAR